BEGIN:VCALENDAR
VERSION:2.0
PRODID:-//The French American Center of Montpellier - ECPv6.15.16//NONSGML v1.0//EN
CALSCALE:GREGORIAN
METHOD:PUBLISH
X-ORIGINAL-URL:https://frenchamericancenter.com
X-WR-CALDESC:Évènements pour The French American Center of Montpellier
REFRESH-INTERVAL;VALUE=DURATION:PT1H
X-Robots-Tag:noindex
X-PUBLISHED-TTL:PT1H
BEGIN:VTIMEZONE
TZID:Europe/Paris
BEGIN:DAYLIGHT
TZOFFSETFROM:+0100
TZOFFSETTO:+0200
TZNAME:CEST
DTSTART:20250330T010000
END:DAYLIGHT
BEGIN:STANDARD
TZOFFSETFROM:+0200
TZOFFSETTO:+0100
TZNAME:CET
DTSTART:20251026T010000
END:STANDARD
BEGIN:DAYLIGHT
TZOFFSETFROM:+0100
TZOFFSETTO:+0200
TZNAME:CEST
DTSTART:20260329T010000
END:DAYLIGHT
BEGIN:STANDARD
TZOFFSETFROM:+0200
TZOFFSETTO:+0100
TZNAME:CET
DTSTART:20261025T010000
END:STANDARD
BEGIN:DAYLIGHT
TZOFFSETFROM:+0100
TZOFFSETTO:+0200
TZNAME:CEST
DTSTART:20270328T010000
END:DAYLIGHT
BEGIN:STANDARD
TZOFFSETFROM:+0200
TZOFFSETTO:+0100
TZNAME:CET
DTSTART:20271031T010000
END:STANDARD
END:VTIMEZONE
BEGIN:VEVENT
DTSTART;TZID=Europe/Paris:20260114T180000
DTEND;TZID=Europe/Paris:20260114T193000
DTSTAMP:20260420T140733
CREATED:20251101T110830Z
LAST-MODIFIED:20260105T093552Z
UID:3321-1768413600-1768419000@frenchamericancenter.com
SUMMARY:Rencontre avec Jonathan Coe
DESCRIPTION:Rencontre avec Jonathan Coe à Montpellier \nLa librairie Sauramps Comédie accueille un invité d’exception pour un moment de partage autour de la littérature contemporaine. Le célèbre auteur britannique Jonathan Coe sera présent le jeudi 6 novembre dès 18h00. Cet événement est organisé en partenariat avec le French American Center. \nJonathan Coe viendra échanger avec le public autour de son nouveau roman « Les preuves de mon innocence »\, publié aux éditions Gallimard. L’échange sera traduit par Jeanette Franklin.\nL’écrivain\, reconnu pour son humour et sa finesse d’analyse\, explore ici la vérité et la mémoire. Son œuvre mêle habilement ironie sociale et émotions sincères. \nCette rencontre est une occasion rare d’échanger directement avec l’auteur. Les lecteurs pourront poser leurs questions et découvrir les coulisses de son écriture. L’événement s’annonce convivial et ouvert à tous les passionnés de littérature. \nJonathan Coe\, né à Birmingham\, est l’un des écrivains britanniques les plus appréciés. Il est notamment l’auteur de « Testament à l’anglaise » et « Bienvenue au club ». Ses livres\, traduits dans le monde entier\, séduisent par leur style élégant et engagé. \nLa soirée se déroulera dans un cadre chaleureux\, au cœur de Montpellier. La librairie Sauramps Comédie\, lieu emblématique de la culture\, propose régulièrement de telles rencontres. Ces moments renforcent le lien entre auteurs\, lecteurs et libraires. \nL’entrée est libre\, dans la limite des places disponibles. Une séance de dédicaces suivra la discussion. Le public est invité à venir tôt pour profiter pleinement de la soirée. La rencontre se tiendra le jeudi 6 novembre à partir de 18h00 dans la librairie Sauramps Comédie.
URL:https://frenchamericancenter.com/evenement/rencontre-avec-jonathan-coe-a-la-librairie-sauramps-comedie/
LOCATION:Sauramps Comédie\, Centre commercial Le Triangle\, 26 All. Jules Milhau\, Montpellier\, 34000\, France
CATEGORIES:Discussions en anglais à Montpellier
END:VEVENT
BEGIN:VEVENT
DTSTART;TZID=Europe/Paris:20260115T180000
DTEND;TZID=Europe/Paris:20260115T190000
DTSTAMP:20260420T140733
CREATED:20251208T095459Z
LAST-MODIFIED:20251215T092033Z
UID:3330-1768500000-1768503600@frenchamericancenter.com
SUMMARY:Réunion d’information – Au Pair in America
DESCRIPTION:La prochaine réunion d’information Au Pair in America arrive à Montpellier.\nCet événement offre une belle occasion de découvrir un programme unique et enrichissant. La rencontre aura lieu jeudi 15 janvier à 18h\, dans le quartier Port Marianne. \nCette réunion vous permet de comprendre chaque étape de l’inscription au programme. Vous pourrez poser toutes vos questions dans un cadre chaleureux et bienveillant. Des candidats de la région seront également présents pour partager leurs expériences. Ces échanges offrent souvent une vision concrète de la vie aux États-Unis. \n \nVous pourrez parler du quotidien en famille d’accueil et des démarches essentielles. Ce moment facilite aussi la compréhension de la recherche de familles américaines. Chaque participant repart généralement avec plus de motivation et de clarté. L’objectif est de vous aider à démarrer ce projet en toute confiance. \nLe programme Au Pair in America propose une aventure humaine et culturelle exceptionnelle. Cette réunion représente donc une étape idéale avant votre départ. Elle vous guide dans vos choix et sécurise votre démarche personnelle. \nInscrivez-vous dès maintenant pour garantir votre participation à cette rencontre inspirante. L’adresse serra communiquée après inscription et choisie selon le nombre d’inscrits à l’événement. \nUne aventure internationale commence souvent par une simple conversation. Rejoignez-nous pour faire le premier pas vers votre futur aux États-Unis. Prochaine réunion Au Pair In America le 15 Janvier 2026 à Montpellier.
URL:https://frenchamericancenter.com/evenement/reunion-dinformation-au-pair-in-america-montpellier/
CATEGORIES:Agence au Pair
ATTACH;FMTTYPE=image/jpeg:https://frenchamericancenter.com/wp-content/uploads/2025/12/reunion-au-pair.jpg
ORGANIZER;CN="The French American Center":MAILTO:info@frenchamericancenter.com
END:VEVENT
BEGIN:VEVENT
DTSTART;TZID=Europe/Paris:20260127T180000
DTEND;TZID=Europe/Paris:20260127T200000
DTSTAMP:20260420T140733
CREATED:20251215T093436Z
LAST-MODIFIED:20251215T093513Z
UID:3337-1769536800-1769544000@frenchamericancenter.com
SUMMARY:Découverte du Shiatsu
DESCRIPTION:Découverte du Shiatsu\nUn moment de bien-être et de partage\, pour se retrouver et se connecter aux autres.\nUn temps pour ralentir\, afin de sortir du rythme quotidien.\nUn espace pour ressentir\, écouter son corps et accueillir ses sensations. \nAnn Edens Vandoit vous invite à une découverte unique\, au cœur des Saisons du Qi : une exploration sensible du Shiatsu\, qui allie douceur\, profondeur et présence. Il s’agit d’une pratique à la fois subtile et accessible\, en lien étroit avec les rythmes de la nature\, et profondément connectée au corps et à l’énergie. \nCet atelier est ouvert à tous\, que vous soyez curieux\, débutant ou déjà initié. Il se déroule dans une ambiance chaleureuse\, favorisant l’écoute\, la bienveillance et la présence à soi et aux autres.\nAinsi\, le partage devient le cœur même de l’expérience. \nL’événement est organisé par le French American Center\, un lieu dédié aux rencontres et aux échanges\, et un véritable pont entre cultures et pratiques. \n📝 Inscription obligatoire\, les places étant limitées. \nAlors\, prenez le temps pour vous et venez vivre pleinement ce moment en anglais.
URL:https://frenchamericancenter.com/evenement/decouverte-du-shiatsu-anglais-montpellier/
LOCATION:Espace Martin Luther King\, 27 boulevard Louis Blanc\, Montpellier\, Espace Martin Luther King\, 27 boulevard Louis Blanc\, Montpellier\, 34000\, France
CATEGORIES:shiatsu anglais montpellier
ATTACH;FMTTYPE=image/png:https://frenchamericancenter.com/wp-content/uploads/2025/12/shiatsu.png
ORGANIZER;CN="The French American Center":MAILTO:info@frenchamericancenter.com
END:VEVENT
END:VCALENDAR