BEGIN:VCALENDAR
VERSION:2.0
PRODID:-//The French American Center of Montpellier - ECPv6.15.16//NONSGML v1.0//EN
CALSCALE:GREGORIAN
METHOD:PUBLISH
X-ORIGINAL-URL:https://frenchamericancenter.com
X-WR-CALDESC:Évènements pour The French American Center of Montpellier
REFRESH-INTERVAL;VALUE=DURATION:PT1H
X-Robots-Tag:noindex
X-PUBLISHED-TTL:PT1H
BEGIN:VTIMEZONE
TZID:Europe/Paris
BEGIN:DAYLIGHT
TZOFFSETFROM:+0100
TZOFFSETTO:+0200
TZNAME:CEST
DTSTART:20240331T010000
END:DAYLIGHT
BEGIN:STANDARD
TZOFFSETFROM:+0200
TZOFFSETTO:+0100
TZNAME:CET
DTSTART:20241027T010000
END:STANDARD
BEGIN:DAYLIGHT
TZOFFSETFROM:+0100
TZOFFSETTO:+0200
TZNAME:CEST
DTSTART:20250330T010000
END:DAYLIGHT
BEGIN:STANDARD
TZOFFSETFROM:+0200
TZOFFSETTO:+0100
TZNAME:CET
DTSTART:20251026T010000
END:STANDARD
BEGIN:DAYLIGHT
TZOFFSETFROM:+0100
TZOFFSETTO:+0200
TZNAME:CEST
DTSTART:20260329T010000
END:DAYLIGHT
BEGIN:STANDARD
TZOFFSETFROM:+0200
TZOFFSETTO:+0100
TZNAME:CET
DTSTART:20261025T010000
END:STANDARD
END:VTIMEZONE
BEGIN:VEVENT
DTSTART;TZID=Europe/Paris:20250308T100000
DTEND;TZID=Europe/Paris:20250308T120000
DTSTAMP:20260421T050727
CREATED:20250203T162334Z
LAST-MODIFIED:20250211T110122Z
UID:3096-1741428000-1741435200@frenchamericancenter.com
SUMMARY:Découverte du Shiatsu & Qi Gong
DESCRIPTION:Les ateliers Shiatsu anglais à Montpellier. Initiez-vous au Shiatsu et au Qi Gong en Anglais avec Ann. Découvrez leurs bienfaits pour votre bien-être et apprenez des techniques simples. \nL’atelier Shiatsu Anglais à Montpellier est une opportunité unique. Vous apprendrez à libérer les tensions et harmoniser votre énergie. De plus\, vous pratiquerez en anglais pour allier bien-être et apprentissage linguistique. Tout d’abord\, le Shiatsu est une technique japonaise basée sur la pression des doigts. Ensuite\, le Qi Gong repose sur des mouvements doux et une respiration profonde. Ensemble\, ils favorisent la relaxation et l’équilibre du corps. \n \nPendant cet atelier\, Ann vous guidera avec bienveillance. Vous explorerez des exercices simples et accessibles. Peu importe votre niveau\, chacun peut bénéficier de cette pratique. D’ailleurs\, pratiquer en anglais ajoute une dimension supplémentaire. Vous enrichirez votre vocabulaire tout en profitant d’un moment de détente. Ainsi\, l’atelier Shiatsu Anglais à Montpellier devient une expérience enrichissante sur plusieurs plans. \nEn outre\, cet atelier est idéal pour réduire le stress et améliorer la concentration. Avec des exercices adaptés\, vous repartirez avec des outils pratiques pour votre quotidien. \nNe manquez pas cette occasion de découvrir une méthode naturelle pour votre équilibre. Réservez votre place dès maintenant ! \nL’atelier Shiatsu Anglais à Montpellier vous attend pour une expérience unique. Venez découvrir ces pratiques et repartez ressourcé ! \nRendez-vous de 10h à 12h au French American Center à Montpellier ! \n Réservation obligatoire avant le 28 Février 2025 (animation sous réserve de 6 participants minimum)
URL:https://frenchamericancenter.com/evenement/shiatsu-anglais-a-montpellier/
LOCATION:The French American Center\, 4\, rue St Louis\, Montpellier\, 34000\, France
CATEGORIES:Discussions en anglais à Montpellier
ATTACH;FMTTYPE=image/jpeg:https://frenchamericancenter.com/wp-content/uploads/2025/02/2.jpg
ORGANIZER;CN="The French American Center":MAILTO:info@frenchamericancenter.com
END:VEVENT
BEGIN:VEVENT
DTSTART;TZID=Europe/Paris:20250312T180000
DTEND;TZID=Europe/Paris:20250312T193000
DTSTAMP:20260421T050727
CREATED:20250312T093652Z
LAST-MODIFIED:20250312T093652Z
UID:3129-1741802400-1741807800@frenchamericancenter.com
SUMMARY:Assemblée Générale
DESCRIPTION:Nous avons le plaisir de vous convier à l’assemblée générale du Centre Franco-Américain qui se tiendra le 12 Mars à 18h00. \n \nLors de cette réunion\, nous discuterons de nos projets pour l’avenir ainsi que des expériences de l’année écoulée. Votre présence et votre participation sont essentielles pour le bon fonctionnement de notre association. \nL’assemblée générale sera l’occasion de partager nos idées\, de prendre des décisions importantes et de renforcer notre communauté. Nous encourageons tous les membres à venir exprimer leurs opinions et à contribuer à façonner l’avenir du Centre Franco-Américain. \nSi vous êtes adhérent(e) vous pouvez vous inscrire en cliquant sur le lien.
URL:https://frenchamericancenter.com/evenement/assemblee-generale-2024/
LOCATION:The French American Center\, 4\, rue St Louis\, Montpellier\, 34000\, France
ATTACH;FMTTYPE=image/png:https://frenchamericancenter.com/wp-content/uploads/2025/03/Screenshot-2024-04-23-at-16.45.29.png
ORGANIZER;CN="The French American Center":MAILTO:info@frenchamericancenter.com
END:VEVENT
BEGIN:VEVENT
DTSTART;TZID=Europe/Paris:20250313T193000
DTEND;TZID=Europe/Paris:20250313T210000
DTSTAMP:20260421T050727
CREATED:20250121T145624Z
LAST-MODIFIED:20250218T124553Z
UID:3055-1741894200-1741899600@frenchamericancenter.com
SUMMARY:pARTicipate : Art and Poetry for Togetherness
DESCRIPTION:Poésie en anglais. Participate: Art and Poetry for Togetherness. Le jeudi 13 mars 2025 à 19h30\, ne manquez pas  pARTicipate: Art and Poetry for Togetherness\, une soirée unique organisée au French American Center. \nCet événement exceptionnel vous offrira une rencontre entre la poésie et l’art visuel\, une occasion rare de plonger dans l’univers créatif de deux artistes talentueux : Peter Lilly\, poète\, et Silje Lilly\, illustratrice. \nPoésie en anglais et illustrations inspirées \nLors de cette soirée\, Peter Lilly partagera des extraits de ses recueils de poésie en anglais. Et\, Silje Lilly présentera une exposition exclusive d’illustrations inspirées par ces mêmes œuvres. Les illustrations de Silje Lilly\, sublimes et émouvantes\, accompagneront les mots de Peter Lilly.  Pour créer une expérience immersive où la poésie et l’art visuel se rencontrent. Les thèmes universels exprimés de connexion\, de partage et d’harmonie. \nUn moment d’échange autour de la poésie et de l’art \nCet événement est l’occasion de découvrir l’impact de l’art et de la poésie et l’importance de l’unité. Vous aurez l’opportunité d’échanger avec les artistes et de découvrir les histoires et inspirations derrière leurs créations. Et\, ce sera également un moment idéal pour apprécier un apéritif convivial. \nQue vous soyez passionné par la poésie en anglais\, l’art ou simplement curieux de découvrir de nouvelles formes d’expression\, cette soirée vous offre une belle opportunité d’explorer les liens entre les deux disciplines. \nLes créations de Peter et Silje Lilly\, à la fois poétiques et visuelles\, toucheront à des thèmes profonds qui favorisent l’unité et l’échange\, contribuant à créer un espace de partage et de convivialité. \nLa réservation est obligatoire pour cet événement poésie en anglais. \n Réservation obligatoire avant le 07 Mars 2025  (sous réserve de 6 participants)
URL:https://frenchamericancenter.com/evenement/poesie-en-anglais-montpellier-art-and-poetry-for-togetherness/
LOCATION:The French American Center\, 4\, rue St Louis\, Montpellier\, 34000\, France
CATEGORIES:Discussions en anglais à Montpellier
ATTACH;FMTTYPE=image/png:https://frenchamericancenter.com/wp-content/uploads/2025/01/poEsie-en-anglais-1.png
ORGANIZER;CN="The French American Center":MAILTO:info@frenchamericancenter.com
END:VEVENT
BEGIN:VEVENT
DTSTART;TZID=Europe/Paris:20250322T100000
DTEND;TZID=Europe/Paris:20250322T120000
DTSTAMP:20260421T050727
CREATED:20250307T092320Z
LAST-MODIFIED:20250307T092706Z
UID:3121-1742637600-1742644800@frenchamericancenter.com
SUMMARY:Découvrez la Permaculture à Montpellier
DESCRIPTION:Le Samedi 22 mars 2024 de 10h à 12h\, le French American Center de Montpellier accueillera un événement unique dédié à la permaculture. Cette méthode de culture durable\, inspirée des écosystèmes naturels\, permet de créer des environnements agricoles résilients. La permaculture à Montpellier sera présentée à la fois en français et en anglais\, offrant ainsi une occasion parfaite pour tous de découvrir cette approche innovante. \n \nLa permaculture est une méthode qui vise à travailler avec la nature. En utilisant les principes de l’écologie\, elle permet de concevoir des systèmes agricoles qui fonctionnent de manière autonome et durable. Le 22 mars\, c’est l’occasion d’en apprendre davantage sur les techniques utilisées pour cultiver en harmonie avec la nature et préserver l’environnement. \nLa présentation met en lumière plusieurs aspects de la permaculture. L’objectif est de sensibiliser le public à la nécessité de repenser nos méthodes de production alimentaire et de nous inspirer des solutions durables. \nCet événement constitue une opportunité pour les habitants de Montpellier d’échanger en anglais et de s’impliquer dans des pratiques agricoles respectueuses de l’environnement. Découvrez la permaculture à Montpellier le 22 mars et participez à ce mouvement global vers un avenir plus vert et plus résilient. \nVenez nombreux au French American Center et explorez cette méthode de culture révolutionnaire ! \n Réservation obligatoire avant le 17 Mars 2025  (sous réserve de 6 participants)
URL:https://frenchamericancenter.com/evenement/decouvrez-la-permaculture-a-montpellier/
LOCATION:The French American Center\, 4\, rue St Louis\, Montpellier\, 34000\, France
CATEGORIES:ateliers anglais montpellier
ATTACH;FMTTYPE=image/jpeg:https://frenchamericancenter.com/wp-content/uploads/2025/03/permaculture-montpellier.jpg
ORGANIZER;CN="The French American Center":MAILTO:info@frenchamericancenter.com
END:VEVENT
END:VCALENDAR